BEGIN:VCALENDAR
VERSION:2.0
PRODID:-//Community Health in Action - ECPv6.15.19//NONSGML v1.0//EN
CALSCALE:GREGORIAN
METHOD:PUBLISH
X-WR-CALNAME:Community Health in Action
X-ORIGINAL-URL:http://sacchia.com
X-WR-CALDESC:Events for Community Health in Action
REFRESH-INTERVAL;VALUE=DURATION:PT1H
X-Robots-Tag:noindex
X-PUBLISHED-TTL:PT1H
BEGIN:VTIMEZONE
TZID:America/Los_Angeles
BEGIN:DAYLIGHT
TZOFFSETFROM:-0800
TZOFFSETTO:-0700
TZNAME:PDT
DTSTART:20240310T100000
END:DAYLIGHT
BEGIN:STANDARD
TZOFFSETFROM:-0700
TZOFFSETTO:-0800
TZNAME:PST
DTSTART:20241103T090000
END:STANDARD
BEGIN:DAYLIGHT
TZOFFSETFROM:-0800
TZOFFSETTO:-0700
TZNAME:PDT
DTSTART:20250309T100000
END:DAYLIGHT
BEGIN:STANDARD
TZOFFSETFROM:-0700
TZOFFSETTO:-0800
TZNAME:PST
DTSTART:20251102T090000
END:STANDARD
BEGIN:DAYLIGHT
TZOFFSETFROM:-0800
TZOFFSETTO:-0700
TZNAME:PDT
DTSTART:20260308T100000
END:DAYLIGHT
BEGIN:STANDARD
TZOFFSETFROM:-0700
TZOFFSETTO:-0800
TZNAME:PST
DTSTART:20261101T090000
END:STANDARD
END:VTIMEZONE
BEGIN:VEVENT
DTSTART;TZID=America/Los_Angeles:20251105T110000
DTEND;TZID=America/Los_Angeles:20251105T150000
DTSTAMP:20260425T060544
CREATED:20250714T171700Z
LAST-MODIFIED:20251101T193207Z
UID:571-1762340400-1762354800@sacchia.com
SUMMARY:Community Health in Action Job & Resource Fair
DESCRIPTION:Discover a wide range of career paths and take the next step in your professional journey!\nWhether you’re just starting your career or seeking new opportunities\, this event offers a great chance\nto connect with top employers\, local organizations\, and nonprofits from across the Sacramento region. \n\nJob Seekers\, let us know you’re coming and take advantage of this opportunity.\nWe have 40 Employers & Resource Vendors signed up to host a table at the event.\n\nHave questions/need info\, please get in touch with Kamarri Abe at KA@PHAdvocates.org\n573.SAC.CHIP (573.722.2447)  CHIA Fair Press Release  CHIA Fair Updated Flyer \n     \nCHIA Fair Flyer Eng Spa 11.5.25 \n¡Descubre una amplia gama de trayectorias profesionales y da el siguiente paso en tu trayectoria profesional!\nYa sea que estés comenzando tu carrera o buscando nuevas oportunidades\, este evento te ofrece una gran oportunidad para conectar con los mejores empleadores\, organizaciones locales y organizaciones sin fines de lucro de toda la región de Sacramento. \n\nSi buscas empleo\, avísanos de tu asistencia y aprovecha esta oportunidad.\nEmpleadores y proveedores de recursos\, inscríbete y organiza una mesa en el evento.\n\nSi tienes preguntas o necesitas información\, comunícate con Kamarri Abe\nen KA@PHAdvocates.org | 573.SAC.CHIP (573.722.2447) \n 
URL:http://sacchia.com/event/chia-job-fair/
LOCATION:Fruitridge Community Collaborative\, 4625 44th Street\, Sacramento\, CA\, 95820\, United States
END:VEVENT
BEGIN:VEVENT
DTSTART;TZID=America/Los_Angeles:20251105T160000
DTEND;TZID=America/Los_Angeles:20251105T180000
DTSTAMP:20260425T060544
CREATED:20250310T215357Z
LAST-MODIFIED:20251101T193359Z
UID:201-1762358400-1762365600@sacchia.com
SUMMARY:CHIA Coalition Celebration (In Person)
DESCRIPTION:You’re Invited: CHIA End-of-Year Celebration & Community Meeting\n🎉Let’s close out 2025 with community\, celebration\, and collective power! \nJoin us for a special CHIA Coalition End-of-Year Meeting & Celebration as we reflect on our collective impact and uplift the work of our Steering Committee\, Subcommittees\, Grantees\, and Partners\, committed to the vision of a healthier\, more equitable Sacramento County. \n✨ We’ll share milestones from the Community Health Improvement Plan (CHIP)\, highlight community wins\, and honor the voices that have led this work with intention and heart. \n📅 Wednesday\, November 5 | 🕒 4-6pm📍 FRCC: 4625 44th Street\, Sac 95820🎶 Refreshments | Reflections | Celebration \nThis is more than a meeting—it’s a moment to celebrate all we’ve built together.Let’s show up\, speak up\, and shine a light on what’s possible when community leads the way. \nTo receive an official calendar invite\, please email Kamarri Abe at KA@PHAdvocates.org or Sign Up Here! \nWhat is CHIA?The Community Health In Action (CHIA) is a coalition leading an ongoing\, community-driven process to identify health needs\, set priorities\, and develop an implementation plan to meet the goals of the Community Health Improvement Plan (CHIP). \nFor more information\, please visit: www.Linktr.ee/SacCHIA  \nCHIA Coalition 11.5 Flyer \nhttp://sacchia.com/wp-content/uploads/CHIA-Coalition-11.5-Flyer.mp4\n  \nOur March 5\, 2025 Coalition Meeting  – Sac County IG Post\nhttp://sacchia.com/wp-content/uploads/CHIA-Coalition-6.4-1.mp4
URL:http://sacchia.com/event/chia-coalition-celebration/
LOCATION:Fruitridge Community Collaborative\, 4625 44th Street\, Sacramento\, CA\, 95820\, United States
END:VEVENT
END:VCALENDAR